BEGIN:VCALENDAR
VERSION:2.0
PRODID:-//pretix//Musik_und_Kultur_am_Domgymnasium_Verden_e.V.//
BEGIN:VEVENT
UID:pretix-muk-maikl2026-6@karten.domgymnasium-verden.de
DTSTART;VALUE=DATE:20260508
DTEND;VALUE=DATE:20260511
DESCRIPTION:Tickets: https://karten.domgymnasium-verden.de/muk/maikl2026/6/
 \nVeranstalter: Musik und Kultur am Domgymnasium Verden e.V.
DTSTAMP:20260420T192741Z
LOCATION:Domgymnasium Verden\, 27283 Verden (Aller)\, Deutschland
SUMMARY:„Maiklänge 2026“ 08.05.-10.05.2026
END:VEVENT
END:VCALENDAR
